BEGIN:VCALENDAR
VERSION:2.0
PRODID:-//Hard Shop - ECPv5.16.4//NONSGML v1.0//EN
CALSCALE:GREGORIAN
METHOD:PUBLISH
X-WR-CALNAME:Hard Shop
X-ORIGINAL-URL:https://www.hardshop.com.br
X-WR-CALDESC:Eventos para Hard Shop
REFRESH-INTERVAL;VALUE=DURATION:PT1H
X-Robots-Tag:noindex
X-PUBLISHED-TTL:PT1H
BEGIN:VTIMEZONE
TZID:UTC
BEGIN:STANDARD
TZOFFSETFROM:+0000
TZOFFSETTO:+0000
TZNAME:UTC
DTSTART:20190101T000000
END:STANDARD
END:VTIMEZONE
BEGIN:VEVENT
DTSTART;TZID=UTC:20200510T080000
DTEND;TZID=UTC:20200515T150000
DTSTAMP:20260419T100343
CREATED:20180205T170148Z
LAST-MODIFIED:20180705T092826Z
UID:330-1589097600-1589554800@www.hardshop.com.br
SUMMARY:Catapult Release
DESCRIPTION:Etiam semper\, nunc vitae volutpat efficitur\, elit nibh egestas velit\, sit amet euismod justo justo pharetra ipsum. Mauris tincidunt erat magna\, ut fringilla erat ultrices et. Class aptent taciti sociosqu ad litora torquent per conubia nostra\, per inceptos himenaeos. Aenean a dolor turpis. Aenean tristique metus diam\, id mollis magna efficitur nec. Sed venenatis arcu nisl\, ac pharetra felis vestibulum vitae. Aenean sit amet pharetra eros\, et condimentum tortor. Ut in dictum magna. Nulla at ex eget sem cursus maximus non non augue. \nVestibulum lobortis\, magna non blandit laoreet\, eros est porttitor libero\, consectetur condimentum nisl mauris a eros. Vivamus id nibh eu erat varius consequat. Cum sociis natoque penatibus et magnis dis parturient montes\, nascetur ridiculus mus. Proin consectetur a augue nec convallis. Morbi et erat sagittis\, cursus nisi quis\, volutpat nulla. Suspendisse potenti. Nam nec diam elit. Suspendisse consequat\, ipsum in tempor cursus\, dolor justo maximus neque\, ac tincidunt mauris nisi eget nisl. Curabitur interdum sollicitudin justo sed tincidunt. Pellentesque dui nunc\, porttitor vel erat nec\, efficitur porttitor purus.
URL:https://www.hardshop.com.br/event/catapult-release/
LOCATION:Concert Hall “Time”\, 350 5th Ave\, New York\, NY 10118\, USA
CATEGORIES:Upcoming Events
ATTACH;FMTTYPE=image/jpeg:https://www.hardshop.com.br/wp-content/uploads/2018/01/blog-11-copyright.jpg
ORGANIZER;CN="Oscar%20White":MAILTO:name@example.com
END:VEVENT
BEGIN:VEVENT
DTSTART;TZID=UTC:20200430T100000
DTEND;TZID=UTC:20200504T160000
DTSTAMP:20260419T100343
CREATED:20180205T170049Z
LAST-MODIFIED:20180705T092907Z
UID:328-1588240800-1588608000@www.hardshop.com.br
SUMMARY:Chainges Conference
DESCRIPTION:Etiam semper\, nunc vitae volutpat efficitur\, elit nibh egestas velit\, sit amet euismod justo justo pharetra ipsum. Mauris tincidunt erat magna\, ut fringilla erat ultrices et. Class aptent taciti sociosqu ad litora torquent per conubia nostra\, per inceptos himenaeos. Aenean a dolor turpis. Aenean tristique metus diam\, id mollis magna efficitur nec. Sed venenatis arcu nisl\, ac pharetra felis vestibulum vitae. Aenean sit amet pharetra eros\, et condimentum tortor. Ut in dictum magna. Nulla at ex eget sem cursus maximus non non augue. \nVestibulum lobortis\, magna non blandit laoreet\, eros est porttitor libero\, consectetur condimentum nisl mauris a eros. Vivamus id nibh eu erat varius consequat. Cum sociis natoque penatibus et magnis dis parturient montes\, nascetur ridiculus mus. Proin consectetur a augue nec convallis. Morbi et erat sagittis\, cursus nisi quis\, volutpat nulla. Suspendisse potenti. Nam nec diam elit. Suspendisse consequat\, ipsum in tempor cursus\, dolor justo maximus neque\, ac tincidunt mauris nisi eget nisl. Curabitur interdum sollicitudin justo sed tincidunt. Pellentesque dui nunc\, porttitor vel erat nec\, efficitur porttitor purus.
URL:https://www.hardshop.com.br/event/chainges-conference/
LOCATION:Concert Hall “Time”\, 350 5th Ave\, New York\, NY 10118\, USA
CATEGORIES:Upcoming Events
ATTACH;FMTTYPE=image/jpeg:https://www.hardshop.com.br/wp-content/uploads/2018/01/blog-12-copyright.jpg
ORGANIZER;CN="Oscar%20White":MAILTO:name@example.com
END:VEVENT
BEGIN:VEVENT
DTSTART;TZID=UTC:20200316T000000
DTEND;TZID=UTC:20220321T190000
DTSTAMP:20260419T100343
CREATED:20180205T165952Z
LAST-MODIFIED:20180705T092933Z
UID:326-1584316800-1647889200@www.hardshop.com.br
SUMMARY:Ethyl Voting
DESCRIPTION:Etiam semper\, nunc vitae volutpat efficitur\, elit nibh egestas velit\, sit amet euismod justo justo pharetra ipsum. Mauris tincidunt erat magna\, ut fringilla erat ultrices et. Class aptent taciti sociosqu ad litora torquent per conubia nostra\, per inceptos himenaeos. Aenean a dolor turpis. Aenean tristique metus diam\, id mollis magna efficitur nec. Sed venenatis arcu nisl\, ac pharetra felis vestibulum vitae. Aenean sit amet pharetra eros\, et condimentum tortor. Ut in dictum magna. Nulla at ex eget sem cursus maximus non non augue. \nVestibulum lobortis\, magna non blandit laoreet\, eros est porttitor libero\, consectetur condimentum nisl mauris a eros. Vivamus id nibh eu erat varius consequat. Cum sociis natoque penatibus et magnis dis parturient montes\, nascetur ridiculus mus. Proin consectetur a augue nec convallis. Morbi et erat sagittis\, cursus nisi quis\, volutpat nulla. Suspendisse potenti. Nam nec diam elit. Suspendisse consequat\, ipsum in tempor cursus\, dolor justo maximus neque\, ac tincidunt mauris nisi eget nisl. Curabitur interdum sollicitudin justo sed tincidunt. Pellentesque dui nunc\, porttitor vel erat nec\, efficitur porttitor purus.
URL:https://www.hardshop.com.br/event/ethyl-voting/
LOCATION:Concert Hall “Time”\, 350 5th Ave\, New York\, NY 10118\, USA
CATEGORIES:Upcoming Events
ATTACH;FMTTYPE=image/jpeg:https://www.hardshop.com.br/wp-content/uploads/2018/01/blog-13-copyright.jpg
ORGANIZER;CN="Oscar%20White":MAILTO:name@example.com
END:VEVENT
BEGIN:VEVENT
DTSTART;TZID=UTC:20200211T080000
DTEND;TZID=UTC:20200216T140000
DTSTAMP:20260419T100343
CREATED:20180205T162631Z
LAST-MODIFIED:20180705T092755Z
UID:322-1581408000-1581861600@www.hardshop.com.br
SUMMARY:Blockchain Week
DESCRIPTION:Etiam semper\, nunc vitae volutpat efficitur\, elit nibh egestas velit\, sit amet euismod justo justo pharetra ipsum. Mauris tincidunt erat magna\, ut fringilla erat ultrices et. Class aptent taciti sociosqu ad litora torquent per conubia nostra\, per inceptos himenaeos. Aenean a dolor turpis. Aenean tristique metus diam\, id mollis magna efficitur nec. Sed venenatis arcu nisl\, ac pharetra felis vestibulum vitae. Aenean sit amet pharetra eros\, et condimentum tortor. Ut in dictum magna. Nulla at ex eget sem cursus maximus non non augue. \nVestibulum lobortis\, magna non blandit laoreet\, eros est porttitor libero\, consectetur condimentum nisl mauris a eros. Vivamus id nibh eu erat varius consequat. Cum sociis natoque penatibus et magnis dis parturient montes\, nascetur ridiculus mus. Proin consectetur a augue nec convallis. Morbi et erat sagittis\, cursus nisi quis\, volutpat nulla. Suspendisse potenti. Nam nec diam elit. Suspendisse consequat\, ipsum in tempor cursus\, dolor justo maximus neque\, ac tincidunt mauris nisi eget nisl. Curabitur interdum sollicitudin justo sed tincidunt. Pellentesque dui nunc\, porttitor vel erat nec\, efficitur porttitor purus.
URL:https://www.hardshop.com.br/event/blockchain-week/
LOCATION:Concert Hall “Time”\, 350 5th Ave\, New York\, NY 10118\, USA
CATEGORIES:Upcoming Events
ATTACH;FMTTYPE=image/jpeg:https://www.hardshop.com.br/wp-content/uploads/2018/01/blog-14-copyright.jpg
ORGANIZER;CN="Oscar%20White":MAILTO:name@example.com
END:VEVENT
BEGIN:VEVENT
DTSTART;TZID=UTC:20190705T000000
DTEND;TZID=UTC:20190710T190000
DTSTAMP:20260419T100343
CREATED:20180205T170936Z
LAST-MODIFIED:20180705T093013Z
UID:338-1562284800-1562785200@www.hardshop.com.br
SUMMARY:Developer Week
DESCRIPTION:Etiam semper\, nunc vitae volutpat efficitur\, elit nibh egestas velit\, sit amet euismod justo justo pharetra ipsum. Mauris tincidunt erat magna\, ut fringilla erat ultrices et. Class aptent taciti sociosqu ad litora torquent per conubia nostra\, per inceptos himenaeos. Aenean a dolor turpis. Aenean tristique metus diam\, id mollis magna efficitur nec. Sed venenatis arcu nisl\, ac pharetra felis vestibulum vitae. Aenean sit amet pharetra eros\, et condimentum tortor. Ut in dictum magna. Nulla at ex eget sem cursus maximus non non augue. \nVestibulum lobortis\, magna non blandit laoreet\, eros est porttitor libero\, consectetur condimentum nisl mauris a eros. Vivamus id nibh eu erat varius consequat. Cum sociis natoque penatibus et magnis dis parturient montes\, nascetur ridiculus mus. Proin consectetur a augue nec convallis. Morbi et erat sagittis\, cursus nisi quis\, volutpat nulla. Suspendisse potenti. Nam nec diam elit. Suspendisse consequat\, ipsum in tempor cursus\, dolor justo maximus neque\, ac tincidunt mauris nisi eget nisl. Curabitur interdum sollicitudin justo sed tincidunt. Pellentesque dui nunc\, porttitor vel erat nec\, efficitur porttitor purus.
URL:https://www.hardshop.com.br/event/developer-week/
LOCATION:Concert Hall “Time”\, 350 5th Ave\, New York\, NY 10118\, USA
CATEGORIES:Upcoming Events
ATTACH;FMTTYPE=image/jpeg:https://www.hardshop.com.br/wp-content/uploads/2018/01/blog-7-copyright.jpg
ORGANIZER;CN="Oscar%20White":MAILTO:name@example.com
END:VEVENT
BEGIN:VEVENT
DTSTART;TZID=UTC:20190623T100000
DTEND;TZID=UTC:20190628T143000
DTSTAMP:20260419T100343
CREATED:20180205T170831Z
LAST-MODIFIED:20180705T093034Z
UID:336-1561284000-1561732200@www.hardshop.com.br
SUMMARY:World Blockchain
DESCRIPTION:Etiam semper\, nunc vitae volutpat efficitur\, elit nibh egestas velit\, sit amet euismod justo justo pharetra ipsum. Mauris tincidunt erat magna\, ut fringilla erat ultrices et. Class aptent taciti sociosqu ad litora torquent per conubia nostra\, per inceptos himenaeos. Aenean a dolor turpis. Aenean tristique metus diam\, id mollis magna efficitur nec. Sed venenatis arcu nisl\, ac pharetra felis vestibulum vitae. Aenean sit amet pharetra eros\, et condimentum tortor. Ut in dictum magna. Nulla at ex eget sem cursus maximus non non augue. \nVestibulum lobortis\, magna non blandit laoreet\, eros est porttitor libero\, consectetur condimentum nisl mauris a eros. Vivamus id nibh eu erat varius consequat. Cum sociis natoque penatibus et magnis dis parturient montes\, nascetur ridiculus mus. Proin consectetur a augue nec convallis. Morbi et erat sagittis\, cursus nisi quis\, volutpat nulla. Suspendisse potenti. Nam nec diam elit. Suspendisse consequat\, ipsum in tempor cursus\, dolor justo maximus neque\, ac tincidunt mauris nisi eget nisl. Curabitur interdum sollicitudin justo sed tincidunt. Pellentesque dui nunc\, porttitor vel erat nec\, efficitur porttitor purus.
URL:https://www.hardshop.com.br/event/world-blockchain/
LOCATION:Concert Hall “Time”\, 350 5th Ave\, New York\, NY 10118\, USA
CATEGORIES:Upcoming Events
ATTACH;FMTTYPE=image/jpeg:https://www.hardshop.com.br/wp-content/uploads/2018/01/blog-10-copyright.jpg
ORGANIZER;CN="Oscar%20White":MAILTO:name@example.com
END:VEVENT
END:VCALENDAR